BEGIN:VCALENDAR
VERSION:2.0
PRODID:icalendar-ruby
CALSCALE:GREGORIAN
METHOD:PUBLISH
BEGIN:VEVENT
DTSTAMP:20260424T015118Z
UID:84-623325@creeksideon44th.com
DTSTART:20260927T134500Z
DTEND:20260927T144500Z
CLASS:PUBLIC
CREATED:20260423T182627
DESCRIPTION:First Service
LAST-MODIFIED:20260423T182627
LOCATION:Creekside Bible Church
SUMMARY:First Service
URL;VALUE=URI:https://www.creeksideon44th.com/events/first-service--84/2026
 -09-27
END:VEVENT
END:VCALENDAR
