BEGIN:VCALENDAR
VERSION:2.0
PRODID:icalendar-ruby
CALSCALE:GREGORIAN
METHOD:PUBLISH
BEGIN:VEVENT
DTSTAMP:20260424T091411Z
UID:84-623839@creeksideon44th.com
DTSTART:20261101T144500Z
DTEND:20261101T154500Z
CLASS:PUBLIC
CREATED:20260423T212021
DESCRIPTION:First Service
LAST-MODIFIED:20260423T212021
LOCATION:Creekside Bible Church
SUMMARY:First Service
URL;VALUE=URI:https://www.creeksideon44th.com/events/first-service--84/2026
 -11-01
END:VEVENT
END:VCALENDAR
