BEGIN:VCALENDAR
VERSION:2.0
PRODID:icalendar-ruby
CALSCALE:GREGORIAN
METHOD:PUBLISH
BEGIN:VEVENT
DTSTAMP:20260422T161543Z
UID:82-618682@creeksideon44th.com
DTSTART:20260913T160000Z
DTEND:20260913T170000Z
CLASS:PUBLIC
CREATED:20260422T094211
DESCRIPTION:Second Service
LAST-MODIFIED:20260422T094211
LOCATION:Creekside Bible Church
SUMMARY:Second Service
URL;VALUE=URI:https://www.creeksideon44th.com/events/second-service--82/202
 6-09-13
END:VEVENT
END:VCALENDAR
