BEGIN:VCALENDAR
VERSION:2.0
PRODID:icalendar-ruby
CALSCALE:GREGORIAN
METHOD:PUBLISH
BEGIN:VEVENT
DTSTAMP:20260422T175300Z
UID:82-619192@creeksideon44th.com
DTSTART:20260920T160000Z
DTEND:20260920T170000Z
CLASS:PUBLIC
CREATED:20260422T123730
DESCRIPTION:Second Service
LAST-MODIFIED:20260422T123730
LOCATION:Creekside Bible Church
SUMMARY:Second Service
URL;VALUE=URI:https://www.creeksideon44th.com/events/second-service--82/202
 6-09-20
END:VEVENT
END:VCALENDAR
