BEGIN:VCALENDAR
VERSION:2.0
PRODID:icalendar-ruby
CALSCALE:GREGORIAN
METHOD:PUBLISH
BEGIN:VEVENT
DTSTAMP:20260422T222313Z
UID:82-619704@creeksideon44th.com
DTSTART:20261011T160000Z
DTEND:20261011T170000Z
CLASS:PUBLIC
CREATED:20260422T153233
DESCRIPTION:Second Service
LAST-MODIFIED:20260422T153233
LOCATION:Creekside Bible Church
SUMMARY:Second Service
URL;VALUE=URI:https://www.creeksideon44th.com/events/second-service--82/202
 6-10-11
END:VEVENT
END:VCALENDAR
