BEGIN:VCALENDAR
VERSION:2.0
PRODID:icalendar-ruby
CALSCALE:GREGORIAN
METHOD:PUBLISH
BEGIN:VEVENT
DTSTAMP:20260422T234428Z
UID:82-620214@creeksideon44th.com
DTSTART:20261018T160000Z
DTEND:20261018T170000Z
CLASS:PUBLIC
CREATED:20260422T182459
DESCRIPTION:Second Service
LAST-MODIFIED:20260422T182459
LOCATION:Creekside Bible Church
SUMMARY:Second Service
URL;VALUE=URI:https://www.creeksideon44th.com/events/second-service--82/202
 6-10-18
END:VEVENT
END:VCALENDAR
