BEGIN:VCALENDAR
VERSION:2.0
PRODID:icalendar-ruby
CALSCALE:GREGORIAN
METHOD:PUBLISH
BEGIN:VEVENT
DTSTAMP:20260423T030748Z
UID:82-620725@creeksideon44th.com
DTSTART:20261101T170000Z
DTEND:20261101T180000Z
CLASS:PUBLIC
CREATED:20260422T211815
DESCRIPTION:Second Service
LAST-MODIFIED:20260422T211815
LOCATION:Creekside Bible Church
SUMMARY:Second Service
URL;VALUE=URI:https://www.creeksideon44th.com/events/second-service--82/202
 6-11-01
END:VEVENT
END:VCALENDAR
