BEGIN:VCALENDAR
VERSION:2.0
PRODID:icalendar-ruby
CALSCALE:GREGORIAN
METHOD:PUBLISH
BEGIN:VEVENT
DTSTAMP:20260420T182717Z
UID:116-612640@creeksideon44th.com
DTSTART:20260502T153000Z
DTEND:20260502T173000Z
CLASS:PUBLIC
CREATED:20260420T094030
DESCRIPTION:
LAST-MODIFIED:20260420T094030
LOCATION:
SUMMARY:Teen Girls Brunch
URL;VALUE=URI:https://www.creeksideon44th.com/events/teen-girls-brunch/2026
 -05-02
ATTACH;FILENAME=Girls-Brunch.jpg;FMTTYPE=image/jpeg:https://dq5pwpg1q8ru0.c
 loudfront.net/2026/04/20/14/40/29/f7fe62c5-4c1f-44fb-89a5-72380f772339/Gir
 ls-Brunch.jpg
END:VEVENT
END:VCALENDAR
