BEGIN:VCALENDAR
VERSION:2.0
PRODID:icalendar-ruby
CALSCALE:GREGORIAN
METHOD:PUBLISH
BEGIN:VEVENT
DTSTAMP:20260421T213058Z
UID:6-616380@creeksideon44th.com
DTSTART;VALUE=DATE:20260928
DTEND;VALUE=DATE:20261004
CLASS:PUBLIC
CREATED:20260421T142750
DESCRIPTION:Check out what's going on this week!
LAST-MODIFIED:20260421T142750
LOCATION:
SUMMARY:Week at a Glance
URL;VALUE=URI:https://www.creeksideon44th.com/events/week-at-a-glance--6/20
 26-09-28
ATTACH;FILENAME=4-19.jpg;FMTTYPE=image/jpeg:https://dq5pwpg1q8ru0.cloudfron
 t.net/2026/04/20/14/01/55/08a6e86b-fa14-419d-a335-a4d05a007150/4-19.jpg
END:VEVENT
END:VCALENDAR
